BEGIN:VCALENDAR
VERSION:2.0
PRODID:-//Digital Health Canada - ECPv6.15.20//NONSGML v1.0//EN
CALSCALE:GREGORIAN
METHOD:PUBLISH
X-WR-CALNAME:Digital Health Canada
X-ORIGINAL-URL:https://digitalhealthcanada.com
X-WR-CALDESC:Events for Digital Health Canada
REFRESH-INTERVAL;VALUE=DURATION:PT1H
X-Robots-Tag:noindex
X-PUBLISHED-TTL:PT1H
BEGIN:VTIMEZONE
TZID:America/Toronto
BEGIN:DAYLIGHT
TZOFFSETFROM:-0500
TZOFFSETTO:-0400
TZNAME:EDT
DTSTART:20240310T070000
END:DAYLIGHT
BEGIN:STANDARD
TZOFFSETFROM:-0400
TZOFFSETTO:-0500
TZNAME:EST
DTSTART:20241103T060000
END:STANDARD
BEGIN:DAYLIGHT
TZOFFSETFROM:-0500
TZOFFSETTO:-0400
TZNAME:EDT
DTSTART:20250309T070000
END:DAYLIGHT
BEGIN:STANDARD
TZOFFSETFROM:-0400
TZOFFSETTO:-0500
TZNAME:EST
DTSTART:20251102T060000
END:STANDARD
BEGIN:DAYLIGHT
TZOFFSETFROM:-0500
TZOFFSETTO:-0400
TZNAME:EDT
DTSTART:20260308T070000
END:DAYLIGHT
BEGIN:STANDARD
TZOFFSETFROM:-0400
TZOFFSETTO:-0500
TZNAME:EST
DTSTART:20261101T060000
END:STANDARD
END:VTIMEZONE
BEGIN:VEVENT
DTSTART;TZID=America/Toronto:20251119T163000
DTEND;TZID=America/Toronto:20251121T170000
DTSTAMP:20260420T023613
CREATED:20260317T140702Z
LAST-MODIFIED:20260317T140702Z
UID:10000244-1763569800-1763744400@digitalhealthcanada.com
SUMMARY:eMHIC25: Building the Future of Mental Health\, Together
DESCRIPTION:eMHIC25: Building the Future of Mental Health\, TogetherDate: November 19–21\, 2025\nLocation: The Westin Harbour Castle\, Toronto + Virtual\nOrganizer: eMental Health International Collaborative (eMHIC) \nOverview\nWhat would mental health systems look like if they were designed today\, from the ground up\, for equity\, for connection\, for everyone? That’s the vision behind eMHIC25\, the 10th Annual Digital Mental Health Global Congress\, hosted by the eMental Health International Collaborative (eMHIC). \nThis milestone event will convene global leaders\, innovators\, policymakers\, clinicians\, researchers\, and lived experience advocates to explore how digital solutions can create fairer\, more connected systems of care. \nWith the theme Global Mental Health Equity: Digital Solutions for an Interconnected World\, eMHIC25 is the must-attend event for those passionate about shaping the future of mental health and substance use. \nEvent Highlights\n\nAI-driven mental health tools and ethical frameworks\nScalable digital models delivering proven\, real-world impact\nCross-border partnerships that dismantle access barriers\nLived experience leadership\, ensuring person-centered design and delivery\n\nWhy Attend\n\nGain insider perspectives from global leaders\nExplore proven digital solutions and best practices\nLearn about regulatory trends and future-focused digital policy\nConnect with changemakers from across sectors and regions\n\nFormat\n\nIn-person: Join eMHIC25 in Toronto for three days of keynotes\, panels\, and collaborative sessions.\nVirtual: Participate from anywhere in the world via an interactive platform\, featuring four live-streamed channels\, a seven-channel agenda available on demand\, and opportunities for meaningful engagement.\n\nBe Part of the Movement\neMHIC25 is the must-attend event for those passionate about creating future-proof\, equitable\, digitally enabled mental health and substance use systems. Policymakers\, service providers\, funders\, innovators\, and lived experience leaders are invited to join this global movement. \nRegister for eMHIC25 here!
URL:https://digitalhealthcanada.com/event-calendar/emhic25-building-the-future-of-mental-health-together/
LOCATION:Westin Harbour Castle\, 1 Harbour Square\, Toronto\, Ontario\, M5J 1A6\, Canada
ATTACH;FMTTYPE=image/png:https://digitalhealthcanada.com/wp-content/uploads/2025/10/Event-header.png
END:VEVENT
BEGIN:VEVENT
DTSTART;TZID=America/Toronto:20250604T080000
DTEND;TZID=America/Toronto:20250604T160000
DTSTAMP:20260420T023613
CREATED:20260317T140620Z
LAST-MODIFIED:20260317T140620Z
UID:10000144-1749024000-1749052800@digitalhealthcanada.com
SUMMARY:CHIEF Executive Forum Spring25 Symposium
DESCRIPTION:Registration has closed. Please contact chief@digitalhealthcanada.com with any inquiries. \nJoin us for this knowledge-sharing\, learning\, and networking event with public and private sector digital health leaders from across Canada. Reserve your seat at the table where important digital health conversations happen. \nAll CHIEF Executive Forum members are invited to attend the CHIEF Executive Forum Spring25 Symposium\, taking place in Toronto on June 4. The Symposium experience will kick off on June 3 with a CHIEF Executive Forum networking reception after the close of the e-Health25 Conference and Tradeshow. \nReserve your spot by registering today or send an email confirming your attendance to chief@digitalhealthcanada.com. \nYour CHIEF Membership includes registration at both the Spring and Fall Symposia and Receptions\, however\, to reserve your place and ensure everyone will be comfortably accommodated\, separate confirmation is required for each of the events.
URL:https://digitalhealthcanada.com/event-calendar/chief-executive-forum-spring25-symposium/
LOCATION:Westin Harbour Castle\, 1 Harbour Square\, Toronto\, Ontario\, M5J 1A6\, Canada
ATTACH;FMTTYPE=image/png:https://digitalhealthcanada.com/wp-content/uploads/2024/11/Spring-Symposium-header.png
END:VEVENT
END:VCALENDAR