BEGIN:VCALENDAR
VERSION:2.0
PRODID:-//Digital Health Canada - ECPv6.15.20//NONSGML v1.0//EN
CALSCALE:GREGORIAN
METHOD:PUBLISH
X-ORIGINAL-URL:https://digitalhealthcanada.com
X-WR-CALDESC:Events for Digital Health Canada
REFRESH-INTERVAL;VALUE=DURATION:PT1H
X-Robots-Tag:noindex
X-PUBLISHED-TTL:PT1H
BEGIN:VTIMEZONE
TZID:America/Vancouver
BEGIN:DAYLIGHT
TZOFFSETFROM:-0800
TZOFFSETTO:-0700
TZNAME:PDT
DTSTART:20230312T100000
END:DAYLIGHT
BEGIN:STANDARD
TZOFFSETFROM:-0700
TZOFFSETTO:-0800
TZNAME:PST
DTSTART:20231105T090000
END:STANDARD
BEGIN:DAYLIGHT
TZOFFSETFROM:-0800
TZOFFSETTO:-0700
TZNAME:PDT
DTSTART:20240310T100000
END:DAYLIGHT
BEGIN:STANDARD
TZOFFSETFROM:-0700
TZOFFSETTO:-0800
TZNAME:PST
DTSTART:20241103T090000
END:STANDARD
BEGIN:DAYLIGHT
TZOFFSETFROM:-0800
TZOFFSETTO:-0700
TZNAME:PDT
DTSTART:20250309T100000
END:DAYLIGHT
BEGIN:STANDARD
TZOFFSETFROM:-0700
TZOFFSETTO:-0800
TZNAME:PST
DTSTART:20251102T090000
END:STANDARD
BEGIN:DAYLIGHT
TZOFFSETFROM:-0800
TZOFFSETTO:-0700
TZNAME:PDT
DTSTART:20260308T100000
END:DAYLIGHT
BEGIN:STANDARD
TZOFFSETFROM:-0700
TZOFFSETTO:-0800
TZNAME:PST
DTSTART:20261101T090000
END:STANDARD
BEGIN:DAYLIGHT
TZOFFSETFROM:-0800
TZOFFSETTO:-0700
TZNAME:PDT
DTSTART:20270314T100000
END:DAYLIGHT
BEGIN:STANDARD
TZOFFSETFROM:-0700
TZOFFSETTO:-0800
TZNAME:PST
DTSTART:20271107T090000
END:STANDARD
END:VTIMEZONE
BEGIN:VEVENT
DTSTART;TZID=America/Vancouver:20260205T170000
DTEND;TZID=America/Vancouver:20260205T190000
DTSTAMP:20260419T193739
CREATED:20260317T140724Z
LAST-MODIFIED:20260317T140724Z
UID:10000209-1770310800-1770318000@digitalhealthcanada.com
SUMMARY:BC26 MeetUp
DESCRIPTION:Segue into snacks and socializing after the conference.\nKeep the important conversations flowing or join us after work and you wind up the day over a snack and a beverage at the official conference MeetUp on the 19th floor of the Pinnacle Hotel Harbourfront. \n\nConference attendees\, your MeetUp registration fee is included in your conference ticket.\nCouldn’t make the conference? Join us at the MeetUp for $37 (includes snacks plus one drinks ticket). Register here
URL:https://digitalhealthcanada.com/event-calendar/bc26-meetup-2/
LOCATION:Pinnacle Hotel Harbourfront\, 1133 W Hastings Street\, Vancouver\, British Columbia\, V6E 3T3\, Canada
ATTACH;FMTTYPE=image/png:https://digitalhealthcanada.com/wp-content/uploads/2025/06/BC26-MeetUp-event-header-large.png
END:VEVENT
BEGIN:VEVENT
DTSTART;TZID=America/Vancouver:20260205T080000
DTEND;TZID=America/Vancouver:20260205T190000
DTSTAMP:20260419T193739
CREATED:20260317T140724Z
LAST-MODIFIED:20260317T140724Z
UID:10000202-1770278400-1770318000@digitalhealthcanada.com
SUMMARY:Digital Health Canada BC26
DESCRIPTION:Join us February 5\, 2026 in the Pinnacle Hotel Harbourfront Ballroom for the Digital Health Canada BC 2026 Conference\, bringing together professionals\, organizations\, and ideas from across the British Columbia digital health landscape. Attendees connect with existing communities and initiate new relationships within both traditional and emerging segments of health and healthcare in the greater Vancouver area. \nEarly Bird registration for Digital Health Canada Members is $297. Registration includes your ticket to the MeetUp on the 19th floor immediately following the conference. \nTell others about the conference! Download and post any of the promotional images below.
URL:https://digitalhealthcanada.com/event-calendar/digital-health-canada-bc26/
LOCATION:Pinnacle Hotel Harbourfront\, 1133 W Hastings Street\, Vancouver\, British Columbia\, V6E 3T3\, Canada
ATTACH;FMTTYPE=image/png:https://digitalhealthcanada.com/wp-content/uploads/2025/06/BC26-event-header-large.png
END:VEVENT
BEGIN:VEVENT
DTSTART;TZID=America/Vancouver:20241021T080000
DTEND;TZID=America/Vancouver:20241022T170000
DTSTAMP:20260419T193739
CREATED:20260317T140517Z
LAST-MODIFIED:20260317T140517Z
UID:10000122-1729497600-1729616400@digitalhealthcanada.com
SUMMARY:2024 Pan-Canadian Conference on Health Information
DESCRIPTION:Experience 2 full days of inspiring keynotes\, information sessions\, collaborative workshops\, and career-building networking opportunities. \nJoin us on October 21 and 22 in Vancouver\, British Columbia\, to network with industry and educational leaders\, gain valuable insights\, and stay ahead in the rapidly evolving health information landscape. \nWhy Attend? \n\nComprehensive Agenda: Explore the latest trends\, technologies\, and best practices in health information management.\nExpert Speakers: Learn from the foremost experts and thought leaders in the field.\nEngagement Opportunities: Connect with peers and industry professionals to exchange ideas and forge valuable connections.\n\nREGISTER \nDon’t miss out on this opportunity to advance your career and contribute to the future of health information. See you in Vancouver!
URL:https://digitalhealthcanada.com/event-calendar/2024-pan-canadian-conference-on-health-information/
LOCATION:Pinnacle Hotel Harbourfront\, 1133 W Hastings Street\, Vancouver\, British Columbia\, V6E 3T3\, Canada
ATTACH;FMTTYPE=image/png:https://digitalhealthcanada.com/wp-content/uploads/2024/09/CHIMANCBanner.png
END:VEVENT
END:VCALENDAR